BEGIN:VCALENDAR
VERSION:2.0
PRODID:-//Klooster Woerden - ECPv6.15.20//NONSGML v1.0//EN
CALSCALE:GREGORIAN
METHOD:PUBLISH
X-ORIGINAL-URL:https://www.kloosterwoerden.nl
X-WR-CALDESC:Evenementen voor Klooster Woerden
REFRESH-INTERVAL;VALUE=DURATION:PT1H
X-Robots-Tag:noindex
X-PUBLISHED-TTL:PT1H
BEGIN:VTIMEZONE
TZID:Europe/Amsterdam
BEGIN:DAYLIGHT
TZOFFSETFROM:+0100
TZOFFSETTO:+0200
TZNAME:CEST
DTSTART:20250330T010000
END:DAYLIGHT
BEGIN:STANDARD
TZOFFSETFROM:+0200
TZOFFSETTO:+0100
TZNAME:CET
DTSTART:20251026T010000
END:STANDARD
BEGIN:DAYLIGHT
TZOFFSETFROM:+0100
TZOFFSETTO:+0200
TZNAME:CEST
DTSTART:20260329T010000
END:DAYLIGHT
BEGIN:STANDARD
TZOFFSETFROM:+0200
TZOFFSETTO:+0100
TZNAME:CET
DTSTART:20261025T010000
END:STANDARD
BEGIN:DAYLIGHT
TZOFFSETFROM:+0100
TZOFFSETTO:+0200
TZNAME:CEST
DTSTART:20270328T010000
END:DAYLIGHT
BEGIN:STANDARD
TZOFFSETFROM:+0200
TZOFFSETTO:+0100
TZNAME:CET
DTSTART:20271031T010000
END:STANDARD
END:VTIMEZONE
BEGIN:VEVENT
DTSTART;TZID=Europe/Amsterdam:20260507T181500
DTEND;TZID=Europe/Amsterdam:20260507T194500
DTSTAMP:20260424T140417
CREATED:20250514T102338Z
LAST-MODIFIED:20260424T115320Z
UID:10000366-1778177700-1778183100@www.kloosterwoerden.nl
SUMMARY:Dennis van Aarssen
DESCRIPTION:In 2026 komt Dennis van Aarssen dichterbij dan ooit. In een intieme setting\, begeleid door Sjoerd van Eijck op piano en Richard Frijters op bas\, brengt de Nederlandse crooner een unieke en persoonlijke muziekervaring. \nTijdens Close to You zingt hij nummers van zijn met een Edison Jazz bekroonde album Just Call It Love (2024) en tijdloze klassiekers van zijn muzikale helden\, zoals Frank Sinatra\, Charles Aznavour en Nat King Cole. \nDe rode draad van de avond? Liefde in al haar facetten. Van de opwinding van een nieuwe verliefdheid tot de onvoorwaardelijke liefde voor familie en vrienden. Van de pijn van een gebroken hart tot het hervinden van hoop op ware liefde. Met een mix van prachtige muziek en persoonlijke verhalen neemt Dennis zijn publiek mee op een emotionele en intieme reis. \nNog nooit stond hij zo kwetsbaar en oprecht op het podium. Close to You is meer dan een concert; het is een avond vol herkenning\, warmte en pure emotie\, waarin Dennis je dichter bij zichzelf en de essentie van liefde brengt. \nDeze theatervoorstelling maakt géén deel uit van de reguliere Klooster theaterprogrammering.
URL:https://www.kloosterwoerden.nl/voorstelling/dennis-van-aarssen/
LOCATION:Het Klooster: Theaterzaal
CATEGORIES:Gastvoorstelling
ATTACH;FMTTYPE=image/jpeg:https://www.kloosterwoerden.nl/wp-content/uploads/2025/05/dennis-van-aarssen.jpg
END:VEVENT
BEGIN:VEVENT
DTSTART;TZID=Europe/Amsterdam:20261112T190000
DTEND;TZID=Europe/Amsterdam:20261112T203000
DTSTAMP:20260424T140417
CREATED:20260421T132918Z
LAST-MODIFIED:20260424T115321Z
UID:10000633-1794510000-1794515400@www.kloosterwoerden.nl
SUMMARY:Schaamteloos schaamtevrij
DESCRIPTION:Je partner zegt: ‘Je had hier toch afslag 31 moeten nemen?’ ‘Shit\, niet opgelet’\, denk je. Maar je snauwt: ‘Nou sorry hoor\, mevrouw Google Maps.’ \n Je vraagt aan een vrouw met een buikje: ‘Ben je zwanger?’ ‘Nee\, hoezo?!’  \n‘Oeps’\, denk je. Maar je mompelt wat onhandigs en loopt snel door. \n  \nTwee totaal verschillende situaties\, maar in wezen identiek. In beide gevallen voel je schaamte. Een emotie die we zo deerniswekkend en pijnlijk vinden dat we óf een harnas aantrekken en van ons afbijten óf in onze schulp kruipen en verdwijnen. Ergo: we reageren schaamteloos óf schaamtevol.  \nBeide reacties zijn destructief. Ze isoleren\, verharden en maken ongelukkig. \nWat een gemiste kans … \nSchaamte als krachtbron \nSchaamte is als de kanarie in de kolenmijn. Ze wijst de weg naar leuker\, opener en vrijer met elkaar omgaan. Schaamte verbindt\, verbetert en beschaaft – mits je er constructief mee omgaat. \n  \nIn dit theatercollege laat Aukje Nauta zien hoe je dat doet: hoe je schaamte kunt omdenken en kunt gebruiken als krachtbron.  \n Verwacht een mix van gênante zelfonthullingen\, wetenschappelijke inzichten en vooral pijnlijk herkenbare anekdotes. Na deze avond schaam je je nooit meer voor je schaamte. Sterker nog: ben je er tróts op. \nNiet schaamteloos. Niet schaamtevol. Maar schaamtevrij. \nRegie: Berthold Gunster \nQuotes: \n‘Wat een geweldige voorstelling! Aukje Nauta heeft iets heel goeds te pakken: een psychologisch verschijnsel\, en dat met vaart en humor gebracht.’ (Eva Hoeke\, journalist en columnist)  \n‘Een avond boordevol humor\, kennis\, openhartigheid\, tempo en energie; en dát met een gewaagd onderwerp als schaamte! Dat kan dus\, en hoe!’ (Teus Lebbing\, auteur ‘Schaamte. Over de eenzaamheid en het zwijgen achter de voordeur.’) \n‘Je hebt het voor elkaar gekregen dat ik niet alleen een leuke avond heb gehad\, maar ook ‘anders’ naar huis ben gegaan. Dat is nog niet veel mensen of artiesten gelukt via een voorstelling.’ (Ludwig Hoeksema\, partner Strategic Management Centre)
URL:https://www.kloosterwoerden.nl/voorstelling/schaamteloos-schaamtevrij/
LOCATION:Het Klooster: Theaterzaal
CATEGORIES:Gastvoorstelling
ATTACH;FMTTYPE=image/jpeg:https://www.kloosterwoerden.nl/wp-content/uploads/2026/04/schaamteloos-schaamtevrij.jpg
END:VEVENT
BEGIN:VEVENT
DTSTART;TZID=Europe/Amsterdam:20261212T190000
DTEND;TZID=Europe/Amsterdam:20261212T200000
DTSTAMP:20260424T140417
CREATED:20260402T141122Z
LAST-MODIFIED:20260424T115911Z
UID:10000514-1797102000-1797105600@www.kloosterwoerden.nl
SUMMARY:Marco vd Bij | Als ik het antwoord vind
DESCRIPTION:Ja\, ik ben dus anders bedraad. Dat verklaart dus het een en ander\, en zet dingen voor mij op zijn plek. Tijd om ook aan de rest van de mensheid uit te leggen hoe mijn wereld werkt. \nDie conclusie is dus aanleiding geweest voor deze voorstelling. Het moest er toch een keer van komen. Een avond zelf als speerpunt op het podium en vertellen over mijn liedjes\, mijn poëzie\, het hoe en waarom\, mijn eindeloze gedachtegangen en …….het uitdagende verloop van mijn leven. \nNB: deze voorstelling maakt geen deel uit van de professionele theaterprogrammering van Het Klooster.
URL:https://www.kloosterwoerden.nl/voorstelling/marco-vd-bij-als-ik-het-antwoord-vind/
LOCATION:Het Klooster: Muziekzaal 31
CATEGORIES:Gastvoorstelling
ATTACH;FMTTYPE=image/png:https://www.kloosterwoerden.nl/wp-content/uploads/2026/04/marco-vd-bij-als-ik-het-antwoord-vind.png
END:VEVENT
END:VCALENDAR